BEGIN:VCALENDAR
VERSION:2.0
PRODID:-//EVO Chair - ECPv6.15.11//NONSGML v1.0//EN
CALSCALE:GREGORIAN
METHOD:PUBLISH
X-WR-CALNAME:EVO Chair
X-ORIGINAL-URL:https://www.evochair.eu
X-WR-CALDESC:Eventi per EVO Chair
REFRESH-INTERVAL;VALUE=DURATION:PT1H
X-Robots-Tag:noindex
X-PUBLISHED-TTL:PT1H
BEGIN:VTIMEZONE
TZID:UTC
BEGIN:STANDARD
TZOFFSETFROM:+0000
TZOFFSETTO:+0000
TZNAME:UTC
DTSTART:20230101T000000
END:STANDARD
END:VTIMEZONE
BEGIN:VEVENT
DTSTART;TZID=UTC:20241129T110000
DTEND;TZID=UTC:20241129T130000
DTSTAMP:20260419T213002
CREATED:20250321T130707Z
LAST-MODIFIED:20250321T130707Z
UID:4658-1732878000-1732885200@www.evochair.eu
SUMMARY:il diritto d’autore online
DESCRIPTION:Giovanni M. Riccio\, Università di Salerno \nintroduce e modera: Raffaele Torino\, Università Roma Tre
URL:https://www.evochair.eu/event/il-diritto-dautore-online/
LOCATION:Roma
CATEGORIES:Seminars Cycle
ATTACH;FMTTYPE=image/png:https://www.evochair.eu/wp-content/uploads/2025/03/6.png
END:VEVENT
END:VCALENDAR